BEGIN:VCALENDAR
VERSION:2.0
PRODID:-//ChamberMaster//Event Calendar 2.0//EN
METHOD:PUBLISH
X-PUBLISHED-TTL:P3D
REFRESH-INTERVAL:P3D
CALSCALE:GREGORIAN
BEGIN:VEVENT
DTSTART;VALUE=DATE:20260606
DTEND;VALUE=DATE:20260607
TRANSP:TRANSPARENT
X-MICROSOFT-CDO-ALLDAYEVENT:TRUE
SUMMARY:Wings Over Cannon Air Show
DESCRIPTION:Air Show Theme: Steadfast Airpower\, Then and Now\n\n\n\nGeneral admission to the event is free and open to the public.\n\n\n\nEvery person planning to attend is required to have a ticket for entry\, including DoW ID card holders.
X-ALT-DESC;FMTTYPE=text/html:Air Show Theme: Steadfast Airpower\, Then and Now<br />\n<br />\nGeneral admission to the event is free and open to the public.<br />\n<br />\nEvery person planning to attend is required to have a ticket for entry\, including DoW ID card holders.
LOCATION:Cannon Air Force Base\, NM 88103
UID:e.2368.4097
SEQUENCE:3
DTSTAMP:20260425T145952Z
URL:http://clovisnm.chambermaster.com/events/details/wings-over-cannon-air-show-4097
END:VEVENT

END:VCALENDAR
